BEGIN:VCALENDAR
VERSION:2.0
METHOD:PUBLISH
BEGIN:VEVENT
DTSTART:20260124T130000Z
DTEND:20260124T143000Z
LOCATION:1450 Barclay Pointe Blvd 1450 Barclay Pointe Boulevard Wilmington NC 28412 
TRANSP: OPAQUE
SEQUENCE:0
UID:
DTSTAMP:20260424T132043Z
SUMMARY:Ainsley's Angels Frosty 5K 2026
DESCRIPTION:This is a fund raiser race for Ainsley's Angels which supports special needs racers in inclusion for athletic events
PRIORITY:1
CLASS:PUBLIC
BEGIN:VALARM
TRIGGER:-PT10080M
ACTION:DISPLAY
DESCRIPTION:Reminder
END:VALARM
END:VEVENT
END:VCALENDAR
