BEGIN:VCALENDAR
VERSION:2.0
METHOD:PUBLISH
BEGIN:VEVENT
DTSTART:20250222T130000Z
DTEND:20250222T163000Z
LOCATION:871 Riverland Dr 871 Riverland Drive Charleston SC 29412 
TRANSP: OPAQUE
SEQUENCE:0
UID:
DTSTAMP:20260425T104035Z
SUMMARY:9th Annual Head for the Cure 5k - Charleston
DESCRIPTION:This event is a 5k walk/run to support the Charleston brain tumor community.
PRIORITY:1
CLASS:PUBLIC
BEGIN:VALARM
TRIGGER:-PT10080M
ACTION:DISPLAY
DESCRIPTION:Reminder
END:VALARM
END:VEVENT
END:VCALENDAR
