BEGIN:VCALENDAR
VERSION:2.0
METHOD:PUBLISH
BEGIN:VEVENT
DTSTART:20240914T123000Z
DTEND:20240914T160000Z
LOCATION:701 Grove Rd 701 Grove Road Greenville SC 29605 
TRANSP: OPAQUE
SEQUENCE:0
UID:
DTSTAMP:20260425T104441Z
SUMMARY:Greenville Children’s Hospital Visit
DESCRIPTION:  The details provided on the form follow:

Contact Name:  Matthew Cohen
Contact Phone Number:  (864) 735-3904
Contact Email:  sheepdog835@gmail.com
Event Name:  Greenville Children’s Hospital visit
Venue:  Prisma Hospital/ children hospital
Venue address:  701 Grove Rd
                Greenville , South Carolina
                29607
                USA
Event Start:  09/14/2024  - 8:30
Event End:    09/14/2024  - 1200pm
Event Website: 
Expected number of attendees:  40
Requested number of characters:  3
Requested character types:
Secure changing/staging area: Yes
Can troopers carry blasters: Yes
Can troopers carry/bring props like lightsabers and staffs: Yes
Is parking available: Yes
Is venue accessible to those with limited mobility: Yes
Amenities available at venue: Water, food vouchers and restroom available
Comments: Another request had come in for the Defenders and we would like to include our friends at the 501st for another visit to the Greenville Children's Hospital.

We have room for 3 characters.
PRIORITY:1
CLASS:PUBLIC
BEGIN:VALARM
TRIGGER:-PT10080M
ACTION:DISPLAY
DESCRIPTION:Reminder
END:VALARM
END:VEVENT
END:VCALENDAR
