BEGIN:VCALENDAR
VERSION:2.0
METHOD:PUBLISH
BEGIN:VEVENT
DTSTART:20260131T140000Z
DTEND:20260131T170000Z
LOCATION:9550 Shore Dr 9550 Shore Drive Myrtle Beach SC 29572 
TRANSP: OPAQUE
SEQUENCE:0
UID:
DTSTAMP:20260425T104802Z
SUMMARY:2026 Myrtle Beach Polar Plunge
DESCRIPTION:This will be our 4rd Year as the 501st Carolina Garrison team members will combine forces to create the awesome fundraising team.
Together we will raise money for Special Olympics than we ever could alone! - #FreezingOurBucketsOff

We made a difference in the lives of 30,707 children and adults with intellectual disabilities in South Carolina.
https://carolinagarrison.org/myrtle-beach-polar-plunge/

PRIORITY:1
CLASS:PUBLIC
BEGIN:VALARM
TRIGGER:-PT10080M
ACTION:DISPLAY
DESCRIPTION:Reminder
END:VALARM
END:VEVENT
END:VCALENDAR
