BEGIN:VCALENDAR
VERSION:2.0
METHOD:PUBLISH
BEGIN:VEVENT
DTSTART:20250503T110000Z
DTEND:20250503T150000Z
LOCATION:900 Park Offices Dr 900 Park Offices Drive Durham NC 27703 
TRANSP: OPAQUE
SEQUENCE:0
UID:
DTSTAMP:20260424T140901Z
SUMMARY:2025 Triangle Race for the Cure
DESCRIPTION:The Triangle Race for the Cure is back for it's 29th year! Join us once again at the Boxyard in Research Triangle Park. Whether you walk, run, or participate virtually, ending breast cancer needs all of us. All funds raised support the mission of Susan G. Komen breast cancer foundation. This year's event aims to raise $475,000.

Venue:  Boxyard RTP
PRIORITY:1
CLASS:PUBLIC
BEGIN:VALARM
TRIGGER:-PT10080M
ACTION:DISPLAY
DESCRIPTION:Reminder
END:VALARM
END:VEVENT
END:VCALENDAR
