BEGIN:VCALENDAR
VERSION:2.0
METHOD:PUBLISH
BEGIN:VEVENT
DTSTART:20241027T170000Z
DTEND:20241027T200000Z
LOCATION:400 Wyatt Dr 400 Wyatt Drive Newland NC 28657 
TRANSP: OPAQUE
SEQUENCE:0
UID:
DTSTAMP:20260425T105122Z
SUMMARY:2024 Trunk or Treat (for families displaced by Hurricane Helene)
DESCRIPTION:Western North Carolina was hit especially hard by Hurricane Helene, and many displaced families are staying at the campground.  This Trunk-or-Treat/meet and greet is being held to bring some Halloween fun to the children (and adults!) there who might otherwise not have any.
PRIORITY:1
CLASS:PUBLIC
BEGIN:VALARM
TRIGGER:-PT10080M
ACTION:DISPLAY
DESCRIPTION:Reminder
END:VALARM
END:VEVENT
END:VCALENDAR
