BEGIN:VCALENDAR
VERSION:2.0
METHOD:PUBLISH
BEGIN:VEVENT
DTSTART:20251004T200000Z
DTEND:20251004T230000Z
LOCATION:55 N Broad St W 55 North Broad Street West Angier NC 27501 
TRANSP: OPAQUE
SEQUENCE:0
UID:
DTSTAMP:20260424T143428Z
SUMMARY:1st Responder's Night Out 2025
DESCRIPTION:This similar to National Night Out. The Angier Police Department moved ours until October due to the Heat.
PRIORITY:1
CLASS:PUBLIC
BEGIN:VALARM
TRIGGER:-PT10080M
ACTION:DISPLAY
DESCRIPTION:Reminder
END:VALARM
END:VEVENT
END:VCALENDAR
