BEGIN:VCALENDAR
VERSION:2.0
METHOD:PUBLISH
BEGIN:VEVENT
DTSTART:20251004T140000Z
DTEND:20251004T170000Z
LOCATION:4800 Park Cir 4800 Park Circle North Charleston SC 29405 
TRANSP: OPAQUE
SEQUENCE:0
UID:
DTSTAMP:20260425T104923Z
SUMMARY:1st Annual Ari Foss Foundation Memorial Walk
DESCRIPTION:The memorial walk is a fundraising event for us, Ari Foss Foundation.  The Ari Foss Foundation was created to help parents and families with financial assistance for cremations or funerals when there is a stillbirth or neonatal loss.  We have helped pay for 35 cremations/funerals to date (4 in 2023, 8 in 2024 and 23 so far in 2025).
Referred by:  Referral from Rebecca Engel.  Y'all participated in her run in Charleston recently.
PRIORITY:1
CLASS:PUBLIC
BEGIN:VALARM
TRIGGER:-PT10080M
ACTION:DISPLAY
DESCRIPTION:Reminder
END:VALARM
END:VEVENT
END:VCALENDAR
