BEGIN:VCALENDAR
VERSION:2.0
METHOD:PUBLISH
BEGIN:VEVENT
DTSTART:20240211T200000Z
DTEND:20240211T220000Z
LOCATION:Asheville   Asheville NC  
TRANSP: OPAQUE
SEQUENCE:0
UID:
DTSTAMP:20260423T085612Z
SUMMARY:17th Annual Asheville Mardi Gras Parade
DESCRIPTION:The 501st, Rebel Legion, Mando Mercs, etc are welcome to participate as part of the local Star Wars-themed group R2-DKrewe. This parade is our gift to the city, a zany, exuberant and irreverent downtown event in the dead of winter. We invite residents to get together with friends, neighbors, and coworkers to create high-quality, surprising and entertaining entries, add upbeat music, and strut their stuff tossing those ubiquitous beads to the crowd. Zaniness, political satire, and amazing displays of populist art appreciated! â€‹ We are promoting a fun, safe event for all ages â€“ with a definite emphasis on FUN!

VENUE is TBD
PRIORITY:1
CLASS:PUBLIC
BEGIN:VALARM
TRIGGER:-PT10080M
ACTION:DISPLAY
DESCRIPTION:Reminder
END:VALARM
END:VEVENT
END:VCALENDAR
